BEGIN:VCALENDAR
VERSION:2.0
PRODID:-//WPI Rowing News - ECPv6.13.2.1//NONSGML v1.0//EN
CALSCALE:GREGORIAN
METHOD:PUBLISH
X-ORIGINAL-URL:https://oldgoatsrowing.org
X-WR-CALDESC:Events for WPI Rowing News
REFRESH-INTERVAL;VALUE=DURATION:PT1H
X-Robots-Tag:noindex
X-PUBLISHED-TTL:PT1H
BEGIN:VTIMEZONE
TZID:UTC
BEGIN:STANDARD
TZOFFSETFROM:+0000
TZOFFSETTO:+0000
TZNAME:UTC
DTSTART:20170101T000000
END:STANDARD
END:VTIMEZONE
BEGIN:VEVENT
DTSTART;VALUE=DATE:20180511
DTEND;VALUE=DATE:20180512
DTSTAMP:20260423T173652
CREATED:20170917T200330Z
LAST-MODIFIED:20170917T200713Z
UID:87-1525996800-1526083199@oldgoatsrowing.org
SUMMARY:National Invitational Collegiate Regatta
DESCRIPTION:
URL:https://oldgoatsrowing.org/event/national-invitational-collegiate-regatta/
CATEGORIES:Regattas
END:VEVENT
BEGIN:VEVENT
DTSTART;VALUE=DATE:20180505
DTEND;VALUE=DATE:20180506
DTSTAMP:20260423T173652
CREATED:20170917T195508Z
LAST-MODIFIED:20170917T195508Z
UID:85-1525478400-1525564799@oldgoatsrowing.org
SUMMARY:New England Rowing Championships
DESCRIPTION:
URL:https://oldgoatsrowing.org/event/new-england-rowing-championships/
CATEGORIES:Regattas
END:VEVENT
BEGIN:VEVENT
DTSTART;VALUE=DATE:20180428
DTEND;VALUE=DATE:20180429
DTSTAMP:20260423T173652
CREATED:20170917T200816Z
LAST-MODIFIED:20170917T200816Z
UID:90-1524873600-1524959999@oldgoatsrowing.org
SUMMARY:NEMAC Chanpionships
DESCRIPTION:
URL:https://oldgoatsrowing.org/event/nemac-chanpionships/
CATEGORIES:Regattas
END:VEVENT
BEGIN:VEVENT
DTSTART;VALUE=DATE:20171028
DTEND;VALUE=DATE:20171029
DTSTAMP:20260423T173652
CREATED:20170912T025124Z
LAST-MODIFIED:20170916T215955Z
UID:50-1509148800-1509235199@oldgoatsrowing.org
SUMMARY:Head of the Fish
DESCRIPTION:Events to be determined…
URL:https://oldgoatsrowing.org/event/head-of-the-fish/
CATEGORIES:Regattas
END:VEVENT
BEGIN:VEVENT
DTSTART;VALUE=DATE:20171021
DTEND;VALUE=DATE:20171023
DTSTAMP:20260423T173652
CREATED:20170912T021527Z
LAST-MODIFIED:20170912T025308Z
UID:42-1508544000-1508716799@oldgoatsrowing.org
SUMMARY:Head of the Charles
DESCRIPTION:Events to be determined…
URL:https://oldgoatsrowing.org/event/head-of-the-charles/
LOCATION:Charles River\, Boston\, MA\, United States
CATEGORIES:Regattas
END:VEVENT
BEGIN:VEVENT
DTSTART;VALUE=DATE:20171014
DTEND;VALUE=DATE:20171015
DTSTAMP:20260423T173652
CREATED:20170912T022947Z
LAST-MODIFIED:20170912T022947Z
UID:47-1507939200-1508025599@oldgoatsrowing.org
SUMMARY:Quinsigamond Snake Regatta
DESCRIPTION:Events to be determined…
URL:https://oldgoatsrowing.org/event/quinsigamond-snake-regatta/
CATEGORIES:Regattas
END:VEVENT
BEGIN:VEVENT
DTSTART;VALUE=DATE:20171001
DTEND;VALUE=DATE:20171002
DTSTAMP:20260423T173652
CREATED:20170926T213948Z
LAST-MODIFIED:20170928T153241Z
UID:129-1506816000-1506902399@oldgoatsrowing.org
SUMMARY:Head of the Riverfront
DESCRIPTION:The women will be competing in the Head of the Riverfront.  Race Schedule and other information is available here. \nOpen Eight at 9:20 AM \nOpen 4 at 1:45 PM
URL:https://oldgoatsrowing.org/event/head-of-the-riverfront/
CATEGORIES:Regattas
END:VEVENT
BEGIN:VEVENT
DTSTART;VALUE=DATE:20171001
DTEND;VALUE=DATE:20171002
DTSTAMP:20260423T173652
CREATED:20170912T011032Z
LAST-MODIFIED:20170927T142701Z
UID:31-1506816000-1506902399@oldgoatsrowing.org
SUMMARY:Textile River Regatta
DESCRIPTION:The Men will be competing at the Textile River Regatta. \nMen’s collegiate Novice eight: 9:10 AM.  \nOpen four: 10:44 AM.  \nClub 8 1:12 PM.  \nOpen Eight: 4 PM
URL:https://oldgoatsrowing.org/event/textile-river-regatta/
LOCATION:Merrimac River\, Lowell\, MA\, United States
CATEGORIES:Regattas
END:VEVENT
END:VCALENDAR