BEGIN:VCALENDAR
VERSION:2.0
PRODID:-//WPI Rowing News - ECPv6.13.2.1//NONSGML v1.0//EN
CALSCALE:GREGORIAN
METHOD:PUBLISH
X-ORIGINAL-URL:https://oldgoatsrowing.org
X-WR-CALDESC:Events for WPI Rowing News
REFRESH-INTERVAL;VALUE=DURATION:PT1H
X-Robots-Tag:noindex
X-PUBLISHED-TTL:PT1H
BEGIN:VTIMEZONE
TZID:UTC
BEGIN:STANDARD
TZOFFSETFROM:+0000
TZOFFSETTO:+0000
TZNAME:UTC
DTSTART:20180101T000000
END:STANDARD
END:VTIMEZONE
BEGIN:VEVENT
DTSTART;VALUE=DATE:20180303
DTEND;VALUE=DATE:20180312
DTSTAMP:20260423T173650
CREATED:20170917T201150Z
LAST-MODIFIED:20170917T201150Z
UID:92-1520035200-1520812799@oldgoatsrowing.org
SUMMARY:Spring Training
DESCRIPTION:Off to Cocoa Beach for spring training.
URL:https://oldgoatsrowing.org/event/spring-training/
CATEGORIES:Event
END:VEVENT
END:VCALENDAR